BEGIN:VCALENDAR
VERSION:2.0
PRODID:-//eventon.com NONSGML v1.0//EN
CALSCALE:GREGORIAN
METHOD:PUBLISH
BEGIN:VEVENT
UID:69e8b21da7bad
DTSTAMP:20260422T113349Z
DTSTART:20220423T100000Z
DTEND:20220423T170000Z
LOCATION:
SUMMARY:"Malón editorial" celebra el Día del Libro en Paseo Bulnes
DESCRIPTION:"Malón editorial" celebra el Día del Libro en Paseo Bulnes
URL:https://www.santiagocultura.cl/events/malon-editorial-conmemora-el-dia-del-libro-en-paseo-bulnes/
END:VEVENT
END:VCALENDAR