BEGIN:VCALENDAR
VERSION:2.0
PRODID:-//eventon.com NONSGML v1.0//EN
CALSCALE:GREGORIAN
METHOD:PUBLISH
BEGIN:VEVENT
UID:69e6553ea799e
DTSTAMP:20260420T163302Z
DTSTART:20220324
DTEND:20220325
LOCATION:
SUMMARY:Teatro "Lastres". Matucana 100
DESCRIPTION:Teatro "Lastres". Matucana 100
URL:https://www.santiagocultura.cl/events/teatro-la-violacion-de-una-actriz-de-teatro-matucana-100/
END:VEVENT
END:VCALENDAR