BEGIN:VCALENDAR
VERSION:2.0
PRODID:-//eventon.com NONSGML v1.0//EN
CALSCALE:GREGORIAN
METHOD:PUBLISH
BEGIN:VEVENT
UID:69e665b3add94
DTSTAMP:20260420T174315Z
DTSTART:20220120T180000Z
DTEND:20220120T210000Z
LOCATION:
SUMMARY:Lanzamiento "La mujer que habito" de Cristina Rojas. Rogelia
DESCRIPTION:Lanzamiento "La mujer que habito" de Cristina Rojas. Rogelia
URL:https://www.santiagocultura.cl/events/lanzamiento-poemario-la-mujer-que-habito-rogelia/
END:VEVENT
END:VCALENDAR