BEGIN:VCALENDAR
VERSION:2.0
PRODID:-//eventon.com NONSGML v1.0//EN
CALSCALE:GREGORIAN
METHOD:PUBLISH
BEGIN:VEVENT
UID:69ece47e8cb26
DTSTAMP:20260425T155750Z
DTSTART:20211223T200000Z
DTEND:20211230T210000Z
LOCATION:
SUMMARY:Teatro: "Fico". Matucana 100
DESCRIPTION:Teatro: "Fico". Matucana 100
URL:https://www.santiagocultura.cl/events/teatro-fico-matucana-100/
END:VEVENT
END:VCALENDAR