BEGIN:VCALENDAR
VERSION:2.0
PRODID:-//eventon.com NONSGML v1.0//EN
CALSCALE:GREGORIAN
METHOD:PUBLISH
BEGIN:VEVENT
UID:69eaef032319d
DTSTAMP:20260424T041811Z
DTSTART:20211214
DTEND:20211215
LOCATION:
SUMMARY:Exposición "Estrategias para acercarnos o partituras de la proximidad". Matucana 100
DESCRIPTION:Exposición "Estrategias para acercarnos o partituras de la pro
 ximidad". Matucana 100
URL:https://www.santiagocultura.cl/events/exposicion-estrategias-para-acercarnos-o-partituras-de-la-proximidad-matucana-100/
END:VEVENT
END:VCALENDAR