BEGIN:VCALENDAR
VERSION:2.0
PRODID:-//eventon.com NONSGML v1.0//EN
CALSCALE:GREGORIAN
METHOD:PUBLISH
BEGIN:VEVENT
UID:69eb171684aad
DTSTAMP:20260424T070910Z
DTSTART:20211203T180000Z
DTEND:20211203T213000Z
LOCATION:
SUMMARY:Una noche en el Museo Artequin
DESCRIPTION:Ven a disfrutar de una noche diferente\,  llena de colores\,  m
 úsica\,  gastronomía\,  música\,  arte y cultura mexicana recorriendo la
  exposición “Día de Muertos” de los artistas Ángel Cristi Berrío
 s (@angel_cristi_b) y Marco Bautista Márquez (@marcobautistaphoto). Junto 
 a ello\,  tendremos música en vivo\,  actividades artísticas familiares y
  pintura corporal flúor en vivo\,  todas actividades[..]
URL:https://www.santiagocultura.cl/events/una-noche-en-el-museo-artequin/
END:VEVENT
END:VCALENDAR