BEGIN:VCALENDAR
VERSION:2.0
PRODID:-//eventon.com NONSGML v1.0//EN
CALSCALE:GREGORIAN
METHOD:PUBLISH
BEGIN:VEVENT
UID:69ebc29ee27c3
DTSTAMP:20260424T192102Z
DTSTART:20211110
DTEND:20211111
LOCATION:
SUMMARY:XIV Seminario de Educación y Género. Museo de la Educación
DESCRIPTION:XIV Seminario de Educación y Género. Museo de la Educación
URL:https://www.santiagocultura.cl/events/xiv-seminario-de-educacion-y-genero-museo-de-la-educacion/
END:VEVENT
END:VCALENDAR