BEGIN:VCALENDAR
VERSION:2.0
PRODID:-//eventon.com NONSGML v1.0//EN
CALSCALE:GREGORIAN
METHOD:PUBLISH
BEGIN:VEVENT
UID:69eb0e060ba70
DTSTAMP:20260424T063030Z
DTSTART:20210620
DTEND:20210621
LOCATION:
SUMMARY:Exposición "El Bosque de lo diminuto". Sol Undurraga. CCLM
DESCRIPTION:Exposición "El Bosque de lo diminuto". Sol Undurraga. CCLM
URL:https://www.santiagocultura.cl/events/exposicion-el-bosque-de-lo-diminuto-sol-undurraga-cclm/
END:VEVENT
END:VCALENDAR