BEGIN:VCALENDAR
VERSION:2.0
PRODID:-//eventon.com NONSGML v1.0//EN
CALSCALE:GREGORIAN
METHOD:PUBLISH
BEGIN:VEVENT
UID:69ea5efb0f130
DTSTAMP:20260423T180339Z
DTSTART:20210901
DTEND:20210902
LOCATION:
SUMMARY:Septiembre: Mes del Circo en Museo Taller
DESCRIPTION:Llega septiembre y\,  como si fuera un instinto que se nos enci
 ende\,  chilenos y chilenas nos conectamos con la belleza de nuestras fiest
 as\,  música\,  comida\,  tradiciones\,  costumbres y paisajes. Entre ella
 s\,  el circo es una de las experiencias nos despierta recuerdos que nos un
 en y emocionan a todos y todas[..]
URL:https://www.santiagocultura.cl/events/septiembre-mes-del-circo-en-museo-taller/
END:VEVENT
END:VCALENDAR