BEGIN:VCALENDAR
VERSION:2.0
PRODID:-//eventon.com NONSGML v1.0//EN
CALSCALE:GREGORIAN
METHOD:PUBLISH
BEGIN:VEVENT
UID:69ea34f2a392f
DTSTAMP:20260423T150418Z
DTSTART:20210819
DTEND:20210820
LOCATION:
SUMMARY:Alejandro Quiroga "La boca llena de silencio". MAC Parque Forestal
DESCRIPTION:Alejandro Quiroga "La boca llena de silencio". MAC Parque Fores
 tal
URL:https://www.santiagocultura.cl/events/alejandro-quiroga-la-boca-llena-de-silencio-mac-parque-forestal/
END:VEVENT
END:VCALENDAR