BEGIN:VCALENDAR
VERSION:2.0
PRODID:-//eventon.com NONSGML v1.0//EN
CALSCALE:GREGORIAN
METHOD:PUBLISH
BEGIN:VEVENT
UID:69e9836498b29
DTSTAMP:20260423T022644Z
DTSTART:20210808T160000Z
DTEND:20210808T170000Z
LOCATION:
SUMMARY:Cuenta Cuentos en el Día del niñ@. Museo del sonido
DESCRIPTION:Cuenta Cuentos en el Día del niñ@. Museo del sonido
URL:https://www.santiagocultura.cl/events/cuenta-cuentos-en-el-dia-del-nino-museo-del-sonido/
END:VEVENT
END:VCALENDAR