BEGIN:VCALENDAR
VERSION:2.0
PRODID:-//eventon.com NONSGML v1.0//EN
CALSCALE:GREGORIAN
METHOD:PUBLISH
BEGIN:VEVENT
UID:69ebe7a056504
DTSTAMP:20260424T215856Z
DTSTART:20210725
DTEND:20210726
LOCATION:
SUMMARY:Conferencia Internacional de Música con Computadores 2020-2021
DESCRIPTION:La Pontificia Universidad Católica de Chile\,  la Facultad de 
 Artes UC y el Instituto de Música UC organizan la Conferencia Internaciona
 l de Música con Computadores 2020-2021. Es la primera vez que la ICMC\,  p
 or sus siglas en inglés se realiza en una ciudad sudamericana. Debido a la
  pandemia\,  el encuentro[..]
URL:https://www.santiagocultura.cl/events/conferencia-internacional-de-musica-con-computadores-2020-2021/
END:VEVENT
END:VCALENDAR