BEGIN:VCALENDAR
VERSION:2.0
PRODID:-//eventon.com NONSGML v1.0//EN
CALSCALE:GREGORIAN
METHOD:PUBLISH
BEGIN:VEVENT
UID:69e5b006a566f
DTSTAMP:20260420T044806Z
DTSTART:20210713
DTEND:20210714
LOCATION:
SUMMARY:Exposición "Santas: mujeres\,  mártires\,  místicas". Extensión UC
DESCRIPTION:Exposición "Santas: mujeres\,  mártires\,  místicas". Extens
 ión UC
URL:https://www.santiagocultura.cl/events/exposicion-santas-mujeres-martires-misticas-extension-uc/
END:VEVENT
END:VCALENDAR