BEGIN:VCALENDAR
VERSION:2.0
PRODID:-//eventon.com NONSGML v1.0//EN
CALSCALE:GREGORIAN
METHOD:PUBLISH
BEGIN:VEVENT
UID:69e99943a74b9
DTSTAMP:20260423T040003Z
DTSTART:20210624
DTEND:20210625
LOCATION:
SUMMARY:Exposición "Interrogar / Devorar la Imagen". MAVI
DESCRIPTION:Exposición "Interrogar / Devorar la Imagen". MAVI
URL:https://www.santiagocultura.cl/events/exposicion-interrogar-devorar-la-imagen-mavi/
END:VEVENT
END:VCALENDAR