BEGIN:VCALENDAR
VERSION:2.0
PRODID:-//eventon.com NONSGML v1.0//EN
CALSCALE:GREGORIAN
METHOD:PUBLISH
BEGIN:VEVENT
UID:69eb547388deb
DTSTAMP:20260424T113059Z
DTSTART:20210629T180000Z
DTEND:20210629T200000Z
LOCATION:
SUMMARY:Conversatorio: Descolonización y derechos culturales de las primeras naciones. MAVI
DESCRIPTION:Conversatorio: Descolonización y derechos culturales de las pr
 imeras naciones. MAVI
URL:https://www.santiagocultura.cl/events/conversatorio-descolonizacion-y-derechos-culturales-de-las-primeras-naciones-mavi/
END:VEVENT
END:VCALENDAR