BEGIN:VCALENDAR
VERSION:2.0
PRODID:-//eventon.com NONSGML v1.0//EN
CALSCALE:GREGORIAN
METHOD:PUBLISH
BEGIN:VEVENT
UID:69e73a7da8859
DTSTAMP:20260421T085109Z
DTSTART:20210612
DTEND:20210613
LOCATION:
SUMMARY:3x3: ¿Dónde está el futuro? - Centro GAM
DESCRIPTION:3x3: ¿Dónde está el futuro? - Centro GAM
URL:https://www.santiagocultura.cl/events/3x3-donde-esta-el-futuro-centro-gam/
END:VEVENT
END:VCALENDAR