BEGIN:VCALENDAR
VERSION:2.0
PRODID:-//eventon.com NONSGML v1.0//EN
CALSCALE:GREGORIAN
METHOD:PUBLISH
BEGIN:VEVENT
UID:69e95e36028c2
DTSTAMP:20260422T234806Z
DTSTART:20210419
DTEND:20210420
LOCATION:
SUMMARY:Exposición: MANIFIESTO (Editing the Process). Espacio O
DESCRIPTION:Exposición: MANIFIESTO (Editing the Process). Espacio O
URL:https://www.santiagocultura.cl/events/exposicion-manifiesto-editing-the-process-espacio-o/
END:VEVENT
END:VCALENDAR