BEGIN:VCALENDAR
VERSION:2.0
PRODID:-//eventon.com NONSGML v1.0//EN
CALSCALE:GREGORIAN
METHOD:PUBLISH
BEGIN:VEVENT
UID:69ec3cded3519
DTSTAMP:20260425T040238Z
DTSTART:20210416
DTEND:20210417
LOCATION:
SUMMARY:Abril Libros y Lecturas Mil con Bibliotank
DESCRIPTION:Abril Libros y Lecturas Mil con Bibliotank
URL:https://www.santiagocultura.cl/events/abril-libros-y-lecturas-mil-con-bibliotank/
END:VEVENT
END:VCALENDAR