BEGIN:VCALENDAR
VERSION:2.0
PRODID:-//eventon.com NONSGML v1.0//EN
CALSCALE:GREGORIAN
METHOD:PUBLISH
BEGIN:VEVENT
UID:69e6f04400695
DTSTAMP:20260421T033428Z
DTSTART:20210417T120000Z
DTEND:20210417T235000Z
LOCATION:
SUMMARY:“Tico y la piedra mágica” en Teatro Azares Online
DESCRIPTION:Esta nueva obra del Ciclo de Títeres para la Familia de Teatro
  Azares\,  muestra la historia de Tico\,  un conejo que tiene terror de ir
  a la escuela. Al parecer\,  todos se ríen de él porque es diferente. Pa
 ra darle ánimo aparece en escena su amigo Alex\,  quien lo invitará a un[
 ..]
URL:https://www.santiagocultura.cl/events/tico-y-la-piedra-magica-en-teatro-azares-online/
END:VEVENT
END:VCALENDAR