BEGIN:VCALENDAR
VERSION:2.0
PRODID:-//eventon.com NONSGML v1.0//EN
CALSCALE:GREGORIAN
METHOD:PUBLISH
BEGIN:VEVENT
UID:69e896c22f34a
DTSTAMP:20260422T093706Z
DTSTART:20210407T180000Z
DTEND:20210407T235000Z
LOCATION:
SUMMARY:Visita mediada virtual "Cartografías de la sangre. Atlas y diagrama"
DESCRIPTION:Sala Gasco te invita el miércoles 7 de abril a las 18 horas a 
 una Visita Mediada de la exposición "Cartografías de la sangre. Atlas y 
 diagrama"\,  para conocer las obras de manera grupal y con el apoyo de una 
 mediadora. Estas instancias tienen como objetivo romper la barrera que exis
 te[..]
URL:https://www.santiagocultura.cl/events/visita-mediada-virtual-cartografias-de-la-sangre-atlas-y-diagrama/
END:VEVENT
END:VCALENDAR