BEGIN:VCALENDAR
VERSION:2.0
PRODID:-//eventon.com NONSGML v1.0//EN
CALSCALE:GREGORIAN
METHOD:PUBLISH
BEGIN:VEVENT
UID:69e73b0649bd6
DTSTAMP:20260421T085326Z
DTSTART:20201113
DTEND:20201114
LOCATION:
SUMMARY:Silencio (esto no es teatro) - Teatro del Puente
DESCRIPTION:Silencio (esto no es teatro) - Teatro del Puente
URL:https://www.santiagocultura.cl/events/trilogia-de-huida-esto-no-es-teatro/
END:VEVENT
END:VCALENDAR