BEGIN:VCALENDAR
VERSION:2.0
PRODID:-//eventon.com NONSGML v1.0//EN
CALSCALE:GREGORIAN
METHOD:PUBLISH
BEGIN:VEVENT
UID:69e7b385b83cb
DTSTAMP:20260421T172733Z
DTSTART:20200918T220000Z
DTEND:20200918T235000Z
LOCATION:
SUMMARY:Gabriel Huentemil: El guitarrón tiene cuento
DESCRIPTION:Compuesta por una serie de cuentos\,  leyendas y mitos de la zo
 na precordillerana de Chile\,  Gabriel nos presentará una obra unipersona
 l de narración oral musicalizada que recoge el carácter campesino y la ra
 íz de los antiguos cultores del Guitarrón Chileno. Recorriendo historias 
 y relatos de la zona central del país\,  siendo[..]
URL:https://www.santiagocultura.cl/events/gabriel-huentemil-el-guitarron-tiene-cuento/
END:VEVENT
END:VCALENDAR