BEGIN:VCALENDAR
VERSION:2.0
PRODID:-//eventon.com NONSGML v1.0//EN
CALSCALE:GREGORIAN
METHOD:PUBLISH
BEGIN:VEVENT
UID:69e69bcae2d6a
DTSTAMP:20260420T213402Z
DTSTART:20200828T180000Z
DTEND:20200828T235000Z
LOCATION:
SUMMARY:Charla: Amedeo Modigliani\,  homenaje al artista a 100 años de su muerte
DESCRIPTION:Charla: Amedeo Modigliani\,  homenaje al artista a 100 años de
  su muerte
URL:https://www.santiagocultura.cl/events/charla-amedeo-modigliani-homenaje-al-artista-a-100-anos-de-su-muerte/
END:VEVENT
END:VCALENDAR