BEGIN:VCALENDAR
VERSION:2.0
PRODID:-//eventon.com NONSGML v1.0//EN
CALSCALE:GREGORIAN
METHOD:PUBLISH
BEGIN:VEVENT
UID:69e774493dbf6
DTSTAMP:20260421T125745Z
DTSTART:20200730T193000Z
DTEND:20200730T235000Z
LOCATION:
SUMMARY:Museo de la Memoria y Teatro Ictus invitan a ciclo de teatro “Escenas Memorables”
DESCRIPTION:Museo de la Memoria y Teatro Ictus invitan a ciclo de teatro 
 Escenas Memorables”
URL:https://www.santiagocultura.cl/events/museo-de-la-memoria-y-teatro-ictus-invitan-a-ciclo-de-teatro-escenas-memorables/
END:VEVENT
END:VCALENDAR