BEGIN:VCALENDAR
VERSION:2.0
PRODID:-//eventon.com NONSGML v1.0//EN
CALSCALE:GREGORIAN
METHOD:PUBLISH
BEGIN:VEVENT
UID:69e885684d28a
DTSTAMP:20260422T082304Z
DTSTART:20200110
DTEND:20200111
LOCATION:
SUMMARY:Festival de Artes Escénicas “La Cosecha”
DESCRIPTION:Festival de Artes Escénicas “La Cosecha”
URL:https://www.santiagocultura.cl/events/festival-de-artes-escenicas-la-cosecha/
END:VEVENT
END:VCALENDAR