BEGIN:VCALENDAR
VERSION:2.0
PRODID:-//eventon.com NONSGML v1.0//EN
CALSCALE:GREGORIAN
METHOD:PUBLISH
BEGIN:VEVENT
UID:69eb13da5ea07
DTSTAMP:20260424T065522Z
DTSTART:20190820
DTEND:20190821
LOCATION:Galería Gabriela Mistral
SUMMARY:“Taxonomía de los escombros” en Galería Gabriela Mistral
DESCRIPTION:La exposición “Taxonomía de los escombros”\,  de la artis
 ta visual Valentina Utz\,  reflexiona sobre tres barrios\,  tres hitos urba
 nos víctimas de la segregación y la especulación inmobiliaria. La muestr
 a se presenta en la Galería Gabriela Mistral (Alameda 1381) entre el 20 de
  agosto y el 20 de septiembre\,  con entrada[..]
URL:https://www.santiagocultura.cl/events/taxonomia-de-los-escombros-en-galeria-gabriela-mistral/
END:VEVENT
END:VCALENDAR