BEGIN:VCALENDAR
VERSION:2.0
PRODID:-//eventon.com NONSGML v1.0//EN
CALSCALE:GREGORIAN
METHOD:PUBLISH
BEGIN:VEVENT
UID:69e73b3609cfb
DTSTAMP:20260421T085414Z
DTSTART:20190808T193000Z
DTEND:20190808T235000Z
LOCATION:
SUMMARY:Charla de Francisco Brugnoli: “Leonardo\,  la pregunta sobre los límites”
DESCRIPTION:Charla de Francisco Brugnoli: “Leonardo\,  la pregunta sobre 
 los límites”
URL:https://www.santiagocultura.cl/events/charla-de-francisco-brugnoli-leonardo-la-pregunta-sobre-los-limites/
END:VEVENT
END:VCALENDAR