BEGIN:VCALENDAR
VERSION:2.0
PRODID:-//eventon.com NONSGML v1.0//EN
CALSCALE:GREGORIAN
METHOD:PUBLISH
BEGIN:VEVENT
UID:69e7a31cca2a2
DTSTAMP:20260421T161732Z
DTSTART:20190706
DTEND:20190707
LOCATION:Anfiteatro Bellas Artes
SUMMARY:Julio y agosto en Anfiteatro Bellas Artes
DESCRIPTION:LEAR Nombre compañía: Viajeinmovil Fecha y horario temporada 
 13 y 14 de Julio 20.00 hrs Director: Jaime Lorca\,  Tita Lacobelli\,  Chris
 tian Ortega y Nicole Espinoza Adaptación: Christian Ortega Elenco: Catalin
 a Peña\,  Nicole Espinoza y Jaime Lorca Duración de la obra: 60 min Públ
 ico y edades al que es dirigida la[..]
URL:https://www.santiagocultura.cl/events/programacion-julio-y-agosto-en-anfiteatro-bellas-artes/
END:VEVENT
END:VCALENDAR