BEGIN:VCALENDAR
VERSION:2.0
PRODID:-//eventon.com NONSGML v1.0//EN
CALSCALE:GREGORIAN
METHOD:PUBLISH
BEGIN:VEVENT
UID:69e92e701082a
DTSTAMP:20260422T202416Z
DTSTART:20260429T170000Z
DTEND:20260429T235900Z
LOCATION:
SUMMARY:“Presentación de resultados de investigación sobre trayectorias lectoras en Biblioteca Nicomedes Guzmán”
DESCRIPTION:El miércoles 29 de abril\,  a las 17:00 horas\,  se presentar
 n en la Biblioteca Nicomedes Guzmán los resultados de la investigación Z
 onas de desanclaje del capital cultural de origen: pasado\,  presente y fut
 uro en el desarrollo del gusto por la lectura. Este estudio es un proyecto 
 financiado por el Fondo[..]
URL:https://www.santiagocultura.cl/events/presentacion-de-resultados-de-investigacion-sobre-trayectorias-lectoras-en-biblioteca-nicomedes-guzman/
END:VEVENT
END:VCALENDAR