BEGIN:VCALENDAR
VERSION:2.0
PRODID:-//eventon.com NONSGML v1.0//EN
CALSCALE:GREGORIAN
METHOD:PUBLISH
BEGIN:VEVENT
UID:69e918d9efb8e
DTSTAMP:20260422T185209Z
DTSTART:20260423T180000Z
DTEND:20260423T235900Z
LOCATION:
SUMMARY:LÍRICA EN MOVIMIENTO: ÓPERA Y BALLET | DUOC UC Sede Alameda
DESCRIPTION:En el marco de la celebración del Día del libro\,  Duoc UC a 
 Puertas Abierta\,  en conjunto con el Programa de Lenguaje e inglés y Bibl
 ioteca de la Sede Alameda\,  te invitan a vivir una experiencia única\,  d
 onde la ópera y la danza se unen en un espectáculo sorprendente. Déjate[
 ..]
URL:https://www.santiagocultura.cl/events/lirica-en-movimiento-opera-y-ballet-duoc-uc-sede-alameda/
END:VEVENT
END:VCALENDAR