BEGIN:VCALENDAR
VERSION:2.0
PRODID:-//eventon.com NONSGML v1.0//EN
CALSCALE:GREGORIAN
METHOD:PUBLISH
BEGIN:VEVENT
UID:69e92f386b667
DTSTAMP:20260422T202736Z
DTSTART:20260502T160000Z
DTEND:20260503T120000Z
LOCATION:
SUMMARY:Tras agotar entradas\,  Teatro Municipal de Santiago abre dos nuevas funciones para su éxito familiar “La danza del oso”
DESCRIPTION:Como parte del Pequeño Municipal\,  su programa para público 
 familiar y escolar\,  el Teatro trae de vuelta esta obra de teatro de sombr
 as con música en vivo\,  creada por la soprano y gestora cultural Esperanz
 a Restucci e inspirada en antiguos cuentos de hadas. El Municipal de Santia
 go abrió nuevas funciones[..]
URL:https://www.santiagocultura.cl/events/tras-agotar-entradas-teatro-municipal-de-santiago-abre-dos-nuevas-funciones-para-su-exito-familiar-la-danza-del-oso/
END:VEVENT
END:VCALENDAR