BEGIN:VCALENDAR
VERSION:2.0
PRODID:-//eventon.com NONSGML v1.0//EN
CALSCALE:GREGORIAN
METHOD:PUBLISH
BEGIN:VEVENT
UID:69e92eed70700
DTSTAMP:20260422T202621Z
DTSTART:20260503T190000Z
DTEND:20260531T190000Z
LOCATION:
SUMMARY:Tras más de una década de circulación nacional e internacional\,  regresa "Hilda Peña" a las tablas con una breve temporada en el Teatro Ictus
DESCRIPTION:La obra tendrá temporada todos los domingos de mayo a las 19:0
 0H en la Sala la Comedia de Teatro ICTUS a las 19:00H Escrita por Isidora S
 tevenson y dirigida por Aliocha De la Sotta\,  la obra propone un uniperson
 al que explora la memoria y la pérdida\,  protagonizado por Paula Zúñiga
 [..]
URL:https://www.santiagocultura.cl/events/tras-mas-de-una-decada-de-circulacion-nacional-e-internacional-regresa-hilda-pena-a-las-tablas-con-una-breve-temporada-en-el-teatro-ictus/
END:VEVENT
END:VCALENDAR