BEGIN:VCALENDAR
VERSION:2.0
PRODID:-//eventon.com NONSGML v1.0//EN
CALSCALE:GREGORIAN
METHOD:PUBLISH
BEGIN:VEVENT
UID:69e940b1aa314
DTSTAMP:20260422T214209Z
DTSTART:20260421T183000Z
DTEND:20260421T235900Z
LOCATION:
SUMMARY:La Academia Chilena de Bellas Artes inaugura su Temporada 2026 con el concierto “Diálogos”
DESCRIPTION:La Academia Chilena de Bellas Artes\,  institución integrante
  del Instituto de Chile\,  dará inicio a su Temporada de Conciertos 2026 c
 on el recital “Diálogos”\,  una propuesta que busca relevar la interlo
 cución entre la voz de la soprano y la voz del piano\,  en un acto de tran
 sformación mutua para que emerja[..]
URL:https://www.santiagocultura.cl/events/la-academia-chilena-de-bellas-artes-inaugura-su-temporada-2026-con-el-concierto-dialogos/
END:VEVENT
END:VCALENDAR