BEGIN:VCALENDAR
VERSION:2.0
PRODID:-//eventon.com NONSGML v1.0//EN
CALSCALE:GREGORIAN
METHOD:PUBLISH
BEGIN:VEVENT
UID:69e92dc9cbaea
DTSTAMP:20260422T202129Z
DTSTART:20260425T110000Z
DTEND:20260426T170000Z
LOCATION:
SUMMARY:¡Book Santiago la gran fiesta literaria que se toma el Cerro Santa Lucía!
DESCRIPTION:La Ilustre Municipalidad de Santiago\,  a través de su Subdire
 cción de Cultura\,  invita a toda la comunidad a vivir la segunda versión
  de Book Santiago\,  una feria del libro gratuita y abierta a toda la fam
 ilia\,  que se realizará los días 25 y 26 de abril en la Terraza Neptu
 no del Cerro Santa Lucía. En[..]
URL:https://www.santiagocultura.cl/events/book-santiago-la-gran-fiesta-literaria-que-se-toma-el-cerro-santa-lucia/
END:VEVENT
END:VCALENDAR