BEGIN:VCALENDAR
VERSION:2.0
PRODID:-//eventon.com NONSGML v1.0//EN
CALSCALE:GREGORIAN
METHOD:PUBLISH
BEGIN:VEVENT
UID:69e92e70d046c
DTSTAMP:20260422T202416Z
DTSTART:20260502T200000Z
DTEND:20260503T200000Z
LOCATION:
SUMMARY:BORANDA: Experiencias Latinas del Amor– Salsa\,  danza y pasión en CEINA
DESCRIPTION:A través de la música salsa y un lenguaje coreográfico híbr
 ido\,  la obra propone una relectura contemporánea de una herencia musical
  profundamente vinculada a la identidad latinoamericana. Lejos de una mirad
 a folclórica o histórica\,  la salsa aparece como un lenguaje vivo que ac
 ompaña distintas etapas del amor: su inicio\,  su[..]
URL:https://www.santiagocultura.cl/events/boranda-experiencias-latinas-del-amor-salsa-danza-y-pasion-en-ceina/
END:VEVENT
END:VCALENDAR