BEGIN:VCALENDAR
VERSION:2.0
PRODID:-//eventon.com NONSGML v1.0//EN
CALSCALE:GREGORIAN
METHOD:PUBLISH
BEGIN:VEVENT
UID:69ea39da7998d
DTSTAMP:20260423T152514Z
DTSTART:20260411T143000Z
DTEND:20260412T173000Z
LOCATION:
SUMMARY:"Fab. Chilena" abre el calendario 2026 con su 9ª Edición: Un viaje al origen de la cerámica contemporánea
DESCRIPTION:"Fab. Chilena"\,  la feria de cerámica contemporánea impulsad
 a por Galería Biophilia\,  se enorgullece en anunciar su novena edición\,
   marcando el inicio de sus actividades culturales del año 2026. El encuen
 tro se llevará a cabo los días sábado 11 y domingo 12 de abril en el Pis
 o -1 del Centro Cultural[..]
URL:https://www.santiagocultura.cl/events/fab-chilena-abre-el-calendario-2026-con-su-9a-edicion-un-viaje-al-origen-de-la-ceramica-contemporanea/
END:VEVENT
END:VCALENDAR