BEGIN:VCALENDAR
VERSION:2.0
PRODID:-//eventon.com NONSGML v1.0//EN
CALSCALE:GREGORIAN
METHOD:PUBLISH
BEGIN:VEVENT
UID:69e636ed4e58a
DTSTAMP:20260420T142341Z
DTSTART:20260409T180000Z
DTEND:20260418T210000Z
LOCATION:
SUMMARY:Teatro Municipal de Santiago inicia temporada de ballet con Romeo y Julieta  y una inédita función con “After Party” para público Sub-30
DESCRIPTION:La programación de danza 2026 inicia con la emblemática obra 
 de John Cranko\,  sumando la “Experiencia Sub30”: una función exclusiv
 a para menores de 30 años que concluirá con un evento de música electró
 nica en el foyer del Teatro. El Teatro Municipal de Santiago inicia su Temp
 orada de Ballet 2026 rompiendo[..]
URL:https://www.santiagocultura.cl/events/19764/
END:VEVENT
END:VCALENDAR