BEGIN:VCALENDAR
VERSION:2.0
PRODID:-//eventon.com NONSGML v1.0//EN
CALSCALE:GREGORIAN
METHOD:PUBLISH
BEGIN:VEVENT
UID:69ece9d2ea840
DTSTAMP:20260425T162034Z
DTSTART:20260310T100000Z
DTEND:20260415T120000Z
LOCATION:
SUMMARY:Balmaceda Visual invita a postular a la convocatoria 2026 con la oportunidad de exponer en el Museo de Arte Contemporáneo (MAC) y en las cinco sedes de Balmaceda Arte Joven. 
DESCRIPTION:Hasta el 15 de abril de 2026 estarán abiertas las postulacione
 s a esta iniciativa que busca responder a los desafíos que imponen los nu
 evos contextos\,  abriendo espacios de reflexión y encuentro para artistas
  jóvenes a través de sus propuestas en el campo de la visualidad; desde e
 l dibujo y la pintura[..]
URL:https://www.santiagocultura.cl/events/balmaceda-visual-invita-a-postular-a-la-convocatoria-2026-con-la-oportunidad-de-exponer-en-el-museo-de-arte-contemporaneo-mac-y-en-las-cinco-sedes-de-balmaceda-arte-joven/
END:VEVENT
END:VCALENDAR