BEGIN:VCALENDAR
VERSION:2.0
PRODID:-//eventon.com NONSGML v1.0//EN
CALSCALE:GREGORIAN
METHOD:PUBLISH
BEGIN:VEVENT
UID:69e7c55b8c304
DTSTAMP:20260421T184339Z
DTSTART:20250617
DTEND:20250618
LOCATION:
SUMMARY:Participa y gana con el quiz "Huellas de BÃ©lgica en Santiago"
DESCRIPTION:Â¿SabÃ­as que Santiago tiene muchos lugares con influencia belg
 a? Las Huellas de BÃ©lgica en Santiago es un juego interactivo diseÃ±ado pa
 ra resaltar la presencia e influencia de BÃ©lgica en la capital chilena. A 
 travÃ©s de una serie de preguntas\,  los participantes podrÃ¡n descubrir cÃ
 ³mo este paÃ­s europeo ha dejado su[..]
URL:https://www.santiagocultura.cl/events/participa-y-gana-con-el-quiz-huellas-de-belgica-en-santiago/
END:VEVENT
END:VCALENDAR