BEGIN:VCALENDAR
VERSION:2.0
PRODID:-//eventon.com NONSGML v1.0//EN
CALSCALE:GREGORIAN
METHOD:PUBLISH
BEGIN:VEVENT
UID:69e8e3a24ec9e
DTSTAMP:20260422T150506Z
DTSTART:20250215
DTEND:20250216
LOCATION:
SUMMARY:Fiesta Santiago Te Amo
DESCRIPTION:Este en un evento organizado por el Gobierno de Santiago y la F
 undaciÃ³n Teatro a Mil para conmemorar los 484 aÃ±os de Santiago. La Alamed
 a se transformarÃ¡ en un gran escenario cultural que reunirÃ¡ a destacados 
 mÃºsicos\,  artistas y emprendedores e incluirÃ¡ una amplia oferta gastronÃ
 ³mica\,  recorridos patrimoniales\,  exposiciones itinerantes[..]
URL:https://www.santiagocultura.cl/events/fiesta-santiago-te-amo/
END:VEVENT
END:VCALENDAR