BEGIN:VCALENDAR
VERSION:2.0
PRODID:-//eventon.com NONSGML v1.0//EN
CALSCALE:GREGORIAN
METHOD:PUBLISH
BEGIN:VEVENT
UID:69e73b06ee114
DTSTAMP:20260421T085326Z
DTSTART:20241202T030000Z
DTEND:20250520T035900Z
LOCATION:
SUMMARY:Inscríbete para representar a nuestra comuna en Talento Mayor
DESCRIPTION:La Corporación Regional de Desarrollo del Gobierno de Santiago
 \,  convoca a los interesados a participar en la iniciativa “Talento May
 or”. El propósito de este proyecto es estimular y destacar los talentos
  artísticos inéditos mediante una competencia de la voz para personas ma
 yores que residan en la Región Metropolitana. Las audiciones están enfoca
 das en[..]
URL:https://www.santiagocultura.cl/events/talento-mayor/
END:VEVENT
END:VCALENDAR