BEGIN:VCALENDAR
VERSION:2.0
PRODID:-//eventon.com NONSGML v1.0//EN
CALSCALE:GREGORIAN
METHOD:PUBLISH
BEGIN:VEVENT
UID:69e6473c45303
DTSTAMP:20260420T153316Z
DTSTART:20190502
DTEND:20190503
LOCATION:
SUMMARY:"Esperando a Godoy" en Sala Agustín Siré
DESCRIPTION:"Esperando a Godoy" en Sala Agustín Siré
URL:https://www.santiagocultura.cl/events/esperando-a-godoy-en-sala-agustin-sire/
END:VEVENT
END:VCALENDAR