BEGIN:VCALENDAR
VERSION:2.0
PRODID:-//eventon.com NONSGML v1.0//EN
CALSCALE:GREGORIAN
METHOD:PUBLISH
BEGIN:VEVENT
UID:69ea4994a457b
DTSTAMP:20260423T163220Z
DTSTART:20190413
DTEND:20190414
LOCATION:Galería de Arte Posada del Corregidor
SUMMARY:“Atmósferas Sensibles” en Galería de Arte Posada del Corregidor
DESCRIPTION:“Atmósferas Sensibles” es una muestra colectiva que reúne
  a las artistas Mackarenna Caroca\,  Caterina Ciocca\,  Camila Fernández\,
   Antonia Gómez\,  Jocelyn Quiroz\,  Mónica Sepúlveda y Valentina Pérez
 \,  licenciadas en Artes Visuales de la Universidad de Chile\,  quienes pre
 sentan un conjunto de experiencias instalativas las cuales se apropian de l
 os espacios de[..]
URL:https://www.santiagocultura.cl/events/atmosferas-sensibles-en-galeria-de-arte-posada-del-corregidor/
END:VEVENT
END:VCALENDAR