BEGIN:VCALENDAR
VERSION:2.0
PRODID:-//eventon.com NONSGML v1.0//EN
CALSCALE:GREGORIAN
METHOD:PUBLISH
BEGIN:VEVENT
UID:69ebc178126e5
DTSTAMP:20260424T191608Z
DTSTART:20190423
DTEND:20190424
LOCATION:
SUMMARY:Segunda Feria de la Literatura Chilena
DESCRIPTION:Con el objetivo de celebrar el Día Internacional del Libro\,  
 la  Universidad Bernardo O´Higgins realizará el próximo martes  23 y m
 iércoles 24 de abril\,  la segunda  versión de la “Feria de la Literat
 ura Chilena”. Para incentivar la lectura\,  en el marco de la actividad e
 ste año se realizará el  “trueque[..]
URL:https://www.santiagocultura.cl/events/segunda-feria-de-la-literatura-chilena/
END:VEVENT
END:VCALENDAR