BEGIN:VCALENDAR
VERSION:2.0
PRODID:-//eventon.com NONSGML v1.0//EN
CALSCALE:GREGORIAN
METHOD:PUBLISH
BEGIN:VEVENT
UID:69e7a2fd99f5c
DTSTAMP:20260421T161701Z
DTSTART:20230413
DTEND:20230414
LOCATION:
SUMMARY:Llevamos muchas noches pensando en el fin. Teatro de Bolsillo
DESCRIPTION:● Tras un aplaudido debut al inicio del año\,  Llevamos much
 as noches pensando en el fin\,  de la Cía. La Máquina del Arte\,  regresa
  a la cartelera teatral durante abril. ● La obra\,  que aborda la incerti
 dumbre y el miedo a lo desconocido y al caos\,  se presentará desde el[..]
URL:https://www.santiagocultura.cl/events/llevamos-muchas-noches-pensando-en-el-fin-teatro-de-bolsillo/
END:VEVENT
END:VCALENDAR