BEGIN:VCALENDAR
VERSION:2.0
PRODID:-//eventon.com NONSGML v1.0//EN
CALSCALE:GREGORIAN
METHOD:PUBLISH
BEGIN:VEVENT
UID:69e8f4a34fe3d
DTSTAMP:20260422T161739Z
DTSTART:20221111
DTEND:20221112
LOCATION:
SUMMARY:Feria Rara Fest. Matucana 100
DESCRIPTION:Feria Rara Fest. Matucana 100
URL:https://www.santiagocultura.cl/events/feria-rara-fest-matucana-100/
END:VEVENT
END:VCALENDAR