BEGIN:VCALENDAR
VERSION:2.0
PRODID:-//eventon.com NONSGML v1.0//EN
CALSCALE:GREGORIAN
METHOD:PUBLISH
BEGIN:VEVENT
UID:69eadd2c420ce
DTSTAMP:20260424T030204Z
DTSTART:20221008
DTEND:20221009
LOCATION:
SUMMARY:FamFest Chile 15 años
DESCRIPTION:FamFest Chile 15 años
URL:https://www.santiagocultura.cl/events/famfest-chile-15-anos/
END:VEVENT
END:VCALENDAR