BEGIN:VCALENDAR
VERSION:2.0
PRODID:-//eventon.com NONSGML v1.0//EN
CALSCALE:GREGORIAN
METHOD:PUBLISH
BEGIN:VEVENT
UID:69ea775087626
DTSTAMP:20260423T194728Z
DTSTART:20220912T120000Z
DTEND:20230129T140000Z
LOCATION:
SUMMARY:Exposición Tononwitral: Cuentos tejidos del sur del mundo. Museo Artequin
DESCRIPTION:EXPO “TONONWITRAL: CUENTOS TEJIDOS DEL SUR DEL MUNDO” • E
 sta exposición\,  realizada entre CMPC y Museo Artequin\,  es una invitaci
 ón a vivir un viaje por la cosmovisión del mundo mapuche\,  un encuentro 
 con el patrimonio material e inmaterial\,  construido a través de saberes\
 ,  historias\,  objetos y contextos del sur de[..]
URL:https://www.santiagocultura.cl/events/exposicion-tononwitral-cuentos-tejidos-del-sur-del-mundo-museo-artequin/
END:VEVENT
END:VCALENDAR