BEGIN:VCALENDAR
VERSION:2.0
PRODID:-//eventon.com NONSGML v1.0//EN
CALSCALE:GREGORIAN
METHOD:PUBLISH
BEGIN:VEVENT
UID:69ebd687f345d
DTSTAMP:20260424T204559Z
DTSTART:20220804
DTEND:20220805
LOCATION:
SUMMARY:Exhibición "Cinco episodios y una búsqueda permanente". MAC Parque Forestal
DESCRIPTION:Exhibición "Cinco episodios y una búsqueda permanente". MAC P
 arque Forestal
URL:https://www.santiagocultura.cl/events/exhibicion-cinco-episodios-y-una-busqueda-permanente-mac-parque-forestal/
END:VEVENT
END:VCALENDAR