BEGIN:VCALENDAR
VERSION:2.0
PRODID:-//eventon.com NONSGML v1.0//EN
CALSCALE:GREGORIAN
METHOD:PUBLISH
BEGIN:VEVENT
UID:69e739d39e080
DTSTAMP:20260421T084819Z
DTSTART:20220811T190000Z
DTEND:20220811T200000Z
LOCATION:
SUMMARY:Lanzamiento disco "Eolia". Auditorio FAE USACH
DESCRIPTION:Lanzamiento disco "Eolia". Auditorio FAE USACH
URL:https://www.santiagocultura.cl/events/lanzamiento-disco-eolia-auditorio-fae-usach/
END:VEVENT
END:VCALENDAR